BEGIN:VCALENDAR
VERSION:2.0
PRODID:-//North Steyne Surf Lifesaving Club - ECPv5.0.1//NONSGML v1.0//EN
CALSCALE:GREGORIAN
METHOD:PUBLISH
X-WR-CALNAME:North Steyne Surf Lifesaving Club
X-ORIGINAL-URL://northsteyneslsc.com.au
X-WR-CALDESC:Events for North Steyne Surf Lifesaving Club
BEGIN:VTIMEZONE
TZID:UTC
BEGIN:STANDARD
TZOFFSETFROM:+0000
TZOFFSETTO:+0000
TZNAME:UTC
DTSTART:20200101T000000
END:STANDARD
END:VTIMEZONE
BEGIN:VEVENT
DTSTART;TZID=UTC:20200202T084500
DTEND;TZID=UTC:20200202T133000
DTSTAMP:20200229T130523
CREATED:20190927T225216Z
LAST-MODIFIED:20200215T094458Z
UID:4938-1580633100-1580650200@northsteyneslsc.com.au
SUMMARY:Patrol 2 Duty
DESCRIPTION:Captain Mark S \n
URL:/event/patrol-2-duty-5/2020-02-02/
LOCATION:North Steyne Surf Club\, Manly Beach\, Sydney\, Australia
CATEGORIES:Patrols
ATTACH;FMTTYPE=image/jpeg:/wp-content/uploads/2019/10/Patrol-tent.jpg
ORGANIZER;CN="Dan%20H":MAILTO:captain@northsteyneslsc.com.au
END:VEVENT
BEGIN:VEVENT
DTSTART;TZID=UTC:20200202T093000
DTEND;TZID=UTC:20200202T113000
DTSTAMP:20200229T130524
CREATED:20191002T220533Z
LAST-MODIFIED:20200115T054002Z
UID:4201-1580635800-1580643000@northsteyneslsc.com.au
SUMMARY:Nippers
DESCRIPTION:
URL:/event/nippers-40/2020-02-02/
LOCATION:North Steyne Surf Club\, Manly Beach\, Sydney\, Australia
CATEGORIES:Nipper Events
ATTACH;FMTTYPE=image/jpeg:/wp-content/uploads/2019/10/Nippers.jpg
ORGANIZER;CN="Brian%20M":MAILTO:nippers@northsteyneslsc.com.au
END:VEVENT
BEGIN:VEVENT
DTSTART;TZID=UTC:20200202T131500
DTEND;TZID=UTC:20200202T180000
DTSTAMP:20200229T130524
CREATED:20190928T193528Z
LAST-MODIFIED:20200117T041200Z
UID:4734-1580649300-1580666400@northsteyneslsc.com.au
SUMMARY:Patrol 4 Duty
DESCRIPTION:Captain Kyra J \n
URL:/event/patrol-4-duty-4/2020-02-02/
LOCATION:North Steyne Surf Club\, Manly Beach\, Sydney\, Australia
CATEGORIES:Patrols
ATTACH;FMTTYPE=image/jpeg:/wp-content/uploads/2020/01/Gaza-surf-project-North-Steyne-Surf-Club.jpg
ORGANIZER;CN="Dan%20H":MAILTO:captain@northsteyneslsc.com.au
END:VEVENT
END:VCALENDAR