BEGIN:VCALENDAR
VERSION:2.0
PRODID:-//North Steyne Surf Lifesaving Club - ECPv5.0.1//NONSGML v1.0//EN
CALSCALE:GREGORIAN
METHOD:PUBLISH
X-WR-CALNAME:North Steyne Surf Lifesaving Club
X-ORIGINAL-URL://northsteyneslsc.com.au
X-WR-CALDESC:Events for North Steyne Surf Lifesaving Club
BEGIN:VTIMEZONE
TZID:UTC
BEGIN:STANDARD
TZOFFSETFROM:+0000
TZOFFSETTO:+0000
TZNAME:UTC
DTSTART:20200101T000000
END:STANDARD
END:VTIMEZONE
BEGIN:VEVENT
DTSTART;TZID=UTC:20200208T084500
DTEND;TZID=UTC:20200208T130000
DTSTAMP:20200229T131153
CREATED:20191007T232737Z
LAST-MODIFIED:20191007T232737Z
UID:4866-1581151500-1581166800@northsteyneslsc.com.au
SUMMARY:Patrol 7 Duty
DESCRIPTION:Captain Harry H \n
URL:/event/patrol-7-duty-2/2020-02-08/
LOCATION:North Steyne Surf Club\, Manly Beach\, Sydney\, Australia
CATEGORIES:Patrols
ATTACH;FMTTYPE=image/jpeg:/wp-content/uploads/2018/09/Patrol-with-SLS-CEO-2.jpg
ORGANIZER;CN="Dan%20H":MAILTO:captain@northsteyneslsc.com.au
END:VEVENT
BEGIN:VEVENT
DTSTART;TZID=UTC:20200208T131500
DTEND;TZID=UTC:20200208T180000
DTSTAMP:20200229T131153
CREATED:20191021T225539Z
LAST-MODIFIED:20191021T225539Z
UID:4820-1581167700-1581184800@northsteyneslsc.com.au
SUMMARY:Patrol 5 Patrol
DESCRIPTION:Captain – Dannii E \n
URL:/event/patrol-5-patrol-2019-12-14-2/2020-02-08/
LOCATION:North Steyne Surf Club\, Manly Beach\, Sydney\, Australia
ATTACH;FMTTYPE=image/jpeg:/wp-content/uploads/2019/10/Patrol-tent.jpg
ORGANIZER;CN="Dan%20H":MAILTO:captain@northsteyneslsc.com.au
END:VEVENT
END:VCALENDAR