BEGIN:VCALENDAR
VERSION:2.0
PRODID:-//North Steyne Surf Lifesaving Club - ECPv5.0.1//NONSGML v1.0//EN
CALSCALE:GREGORIAN
METHOD:PUBLISH
X-WR-CALNAME:North Steyne Surf Lifesaving Club
X-ORIGINAL-URL://northsteyneslsc.com.au
X-WR-CALDESC:Events for North Steyne Surf Lifesaving Club
BEGIN:VTIMEZONE
TZID:UTC
BEGIN:STANDARD
TZOFFSETFROM:+0000
TZOFFSETTO:+0000
TZNAME:UTC
DTSTART:20200101T000000
END:STANDARD
END:VTIMEZONE
BEGIN:VEVENT
DTSTART;TZID=UTC:20200215T084500
DTEND;TZID=UTC:20200215T133000
DTSTAMP:20200229T132524
CREATED:20191002T233855Z
LAST-MODIFIED:20191002T233855Z
UID:4878-1581756300-1581773400@northsteyneslsc.com.au
SUMMARY:Patrol 12 Duty
DESCRIPTION:Captain Dave C \n
URL:/event/patrol-12-duty-2/2020-02-15/
LOCATION:North Steyne Surf Club\, Manly Beach\, Sydney\, Australia
CATEGORIES:Patrols
ATTACH;FMTTYPE=image/jpeg:/wp-content/uploads/2019/10/Patrol-tent.jpg
ORGANIZER;CN="Dan%20H":MAILTO:captain@northsteyneslsc.com.au
END:VEVENT
BEGIN:VEVENT
DTSTART;TZID=UTC:20200215T131500
DTEND;TZID=UTC:20200215T180000
DTSTAMP:20200229T132524
CREATED:20190928T114931Z
LAST-MODIFIED:20190928T114931Z
UID:4829-1581772500-1581789600@northsteyneslsc.com.au
SUMMARY:Patrol 11 Duty
DESCRIPTION:Captain James P \n
URL:/event/patrol-11-duty-2019-12-01/2020-02-15/
LOCATION:North Steyne Surf Club\, Manly Beach\, Sydney\, Australia
CATEGORIES:Patrols
ATTACH;FMTTYPE=image/jpeg:/wp-content/uploads/2019/10/Patrol-tent.jpg
ORGANIZER;CN="Dan%20H":MAILTO:captain@northsteyneslsc.com.au
END:VEVENT
END:VCALENDAR