BEGIN:VCALENDAR
VERSION:2.0
PRODID:-//North Steyne Surf Lifesaving Club - ECPv5.0.1//NONSGML v1.0//EN
CALSCALE:GREGORIAN
METHOD:PUBLISH
X-WR-CALNAME:North Steyne Surf Lifesaving Club
X-ORIGINAL-URL://northsteyneslsc.com.au
X-WR-CALDESC:Events for North Steyne Surf Lifesaving Club
BEGIN:VTIMEZONE
TZID:UTC
BEGIN:STANDARD
TZOFFSETFROM:+0000
TZOFFSETTO:+0000
TZNAME:UTC
DTSTART:20200101T000000
END:STANDARD
END:VTIMEZONE
BEGIN:VEVENT
DTSTART;TZID=UTC:20200216T084500
DTEND;TZID=UTC:20200216T133000
DTSTAMP:20200229T132909
CREATED:20191008T001933Z
LAST-MODIFIED:20200212T042827Z
UID:4848-1581842700-1581859800@northsteyneslsc.com.au
SUMMARY:Patrol 10 Duty
DESCRIPTION:Captain Tim P \n
URL:/event/patrol-10-duty-2020-02-16/
LOCATION:North Steyne Surf Club\, Manly Beach\, Sydney\, Australia
CATEGORIES:Patrols
ATTACH;FMTTYPE=image/jpeg:/wp-content/uploads/2019/10/Patrol-tent.jpg
ORGANIZER;CN="Dan%20H":MAILTO:captain@northsteyneslsc.com.au
END:VEVENT
BEGIN:VEVENT
DTSTART;TZID=UTC:20200216T093000
DTEND;TZID=UTC:20200216T113000
DTSTAMP:20200229T132909
CREATED:20191002T220533Z
LAST-MODIFIED:20200115T054002Z
UID:4203-1581845400-1581852600@northsteyneslsc.com.au
SUMMARY:Nippers
DESCRIPTION:
URL:/event/nippers-40/2020-02-16/
LOCATION:North Steyne Surf Club\, Manly Beach\, Sydney\, Australia
CATEGORIES:Nipper Events
ATTACH;FMTTYPE=image/jpeg:/wp-content/uploads/2019/10/Nippers.jpg
ORGANIZER;CN="Brian%20M":MAILTO:nippers@northsteyneslsc.com.au
END:VEVENT
BEGIN:VEVENT
DTSTART;TZID=UTC:20200216T131500
DTEND;TZID=UTC:20200216T180000
DTSTAMP:20200229T132909
CREATED:20191008T000621Z
LAST-MODIFIED:20191008T000621Z
UID:4919-1581858900-1581876000@northsteyneslsc.com.au
SUMMARY:Patrol 9 Duty
DESCRIPTION:Captain Paul M \n
URL:/event/patrol-9-duty-2/2020-02-16/
LOCATION:North Steyne Surf Club\, Manly Beach\, Sydney\, Australia
CATEGORIES:Patrols
ATTACH;FMTTYPE=image/jpeg:/wp-content/uploads/2019/10/Patrol-tent.jpg
ORGANIZER;CN="Dan%20H":MAILTO:captain@northsteyneslsc.com.au
END:VEVENT
END:VCALENDAR