BEGIN:VCALENDAR
VERSION:2.0
PRODID:-//North Steyne Surf Lifesaving Club - ECPv4.6.12//NONSGML v1.0//EN
CALSCALE:GREGORIAN
METHOD:PUBLISH
X-WR-CALNAME:North Steyne Surf Lifesaving Club
X-ORIGINAL-URL:https://northsteyneslsc.com.au
X-WR-CALDESC:Events for North Steyne Surf Lifesaving Club
BEGIN:VEVENT
DTSTART;TZID=UTC+0:20190202T060000
DTEND;TZID=UTC+0:20190202T120000
DTSTAMP:20190227T113616
CREATED:20190113T080236Z
LAST-MODIFIED:20190113T080236Z
UID:3347-1549087200-1549108800@northsteyneslsc.com.au
SUMMARY:Sun Run Fundraiser
DESCRIPTION:The Sun Run is on again on Saturday 2 February 2019 which raises funds for the North Steyne SLSC and our Nippers Programs. Registration is easy\, particularly if you registered last year. Go to the group members list\, see if your details are there and then use the login link to select your shift. For those that have been marshals before\, please nominate for these earlier sign-on and note that the hours are approximate with the bulk being from 5.45am-9.30am. \nRegistration\nEach volunteer has to be registered and this year those from 8 and above are to be registered and checked in will be counted towards your groups donation. Remember to do the quick quiz\, select the workforce@fairfaxmedia address and select a shirt size. \nCheck if you have already have a Workforce Portal from a previous event\, if you see their name on your group member list they already have an account and will just need to login and select their shift. There is a website with more information about how to use your portal here. \nFor those group members you do not see on your group member list\, please have them create their Workforce Portal and select their shift using this link. \nGroup Allocation:\nFinish Marshals – 10 volunteers. You must be 16 years of age or over to volunteer with your group in this position (Finish line area in Manly and also setting up finish line and drinks station as well as an earlier start)\nFinish Drink Station – 30 volunteers. You must be a minimum 8 years of age to volunteer with your group in this position (Mixture of Nippers and Parents)\nFinish Medals – 20 volunteers. You must be a minimum 8 years of age to volunteer with your group in this position (Mainly the younger Nippers and a couple of parents to supervise)\nCourse Marshals – 16 volunteers. You must be 18 years of age or over to volunteer in this role (Mainly Boaties and volunteers around Queenscliff and Freshwater as well as an earlier start)\nCourse Fillers – 5 volunteers. You must be 18 years of age or over to volunteer in this role (To report to Dee Why to be bussed to locations as required) \nPlease don’t hesitate to contact me with any questions or updates about your group or the event. \nPlease register asap as this generally raises around $3\,500 + for our club if we fill all of the positions. \nThanks for your continued Support\,\nDavid\nM: 0401 147 556  \n
URL:https://northsteyneslsc.com.au/event/sun-run-fundraiser/
ORGANIZER;CN="David%20Cowell":MAILTO:marketing@northsteyneslsc.com.au
END:VEVENT
BEGIN:VEVENT
DTSTART;TZID=UTC+0:20190203T093000
DTEND;TZID=UTC+0:20190203T113000
DTSTAMP:20190227T113616
CREATED:20190113T032527Z
LAST-MODIFIED:20190113T032527Z
UID:3313-1549186200-1549193400@northsteyneslsc.com.au
SUMMARY:Nippers
DESCRIPTION:North Steyne Beach \n
URL:https://northsteyneslsc.com.au/event/nippers-34/
ORGANIZER;CN="Brian%20Mariotti":MAILTO:nippers@northsteyneslsc.com.au
END:VEVENT
BEGIN:VEVENT
DTSTART;TZID=UTC+0:20190203T110000
DTEND;TZID=UTC+0:20190203T123000
DTSTAMP:20190227T113616
CREATED:20190203T102605Z
LAST-MODIFIED:20190203T102605Z
UID:3377-1549191600-1549197000@northsteyneslsc.com.au
SUMMARY:Ripper Nippers
DESCRIPTION:
URL:https://northsteyneslsc.com.au/event/ripper-nippers-15/
LOCATION:Manly Beach\, Sydney\, Australia
ORGANIZER;CN="David%20Cowell":MAILTO:marketing@northsteyneslsc.com.au
END:VEVENT
BEGIN:VEVENT
DTSTART;TZID=UTC+0:20190206T190000
DTEND;TZID=UTC+0:20190206T210000
DTSTAMP:20190227T113616
CREATED:20190113T021801Z
LAST-MODIFIED:20190113T021801Z
UID:3277-1549479600-1549486800@northsteyneslsc.com.au
SUMMARY:Bronze Training
DESCRIPTION:Club Hall with Kyra \n
URL:https://northsteyneslsc.com.au/event/bronze-training-35/
LOCATION:Manly Beach\, Sydney\, Australia
ORGANIZER;CN="Kyra%20Jenkins":MAILTO:chief.instructor@northsteyneslsc.com.au
END:VEVENT
BEGIN:VEVENT
DTSTART;TZID=UTC+0:20190210T093000
DTEND;TZID=UTC+0:20190210T233000
DTSTAMP:20190227T113616
CREATED:20190113T032652Z
LAST-MODIFIED:20190113T032652Z
UID:3315-1549791000-1549841400@northsteyneslsc.com.au
SUMMARY:Nippers
DESCRIPTION:North Steyne Beach \n
URL:https://northsteyneslsc.com.au/event/nippers-35/
ORGANIZER;CN="Brian%20Mariotti":MAILTO:nippers@northsteyneslsc.com.au
END:VEVENT
BEGIN:VEVENT
DTSTART;TZID=UTC+0:20190210T110000
DTEND;TZID=UTC+0:20190210T123000
DTSTAMP:20190227T113616
CREATED:20190203T102703Z
LAST-MODIFIED:20190203T102703Z
UID:3379-1549796400-1549801800@northsteyneslsc.com.au
SUMMARY:Ripper Nippers
DESCRIPTION:
URL:https://northsteyneslsc.com.au/event/ripper-nippers-16/
LOCATION:Manly Beach\, Sydney\, Australia
ORGANIZER;CN="David%20Cowell":MAILTO:marketing@northsteyneslsc.com.au
END:VEVENT
BEGIN:VEVENT
DTSTART;TZID=UTC+0:20190213T190000
DTEND;TZID=UTC+0:20190213T210000
DTSTAMP:20190227T113616
CREATED:20190113T021923Z
LAST-MODIFIED:20190113T021923Z
UID:3279-1550084400-1550091600@northsteyneslsc.com.au
SUMMARY:Bronze Training
DESCRIPTION:Club Hall \n
URL:https://northsteyneslsc.com.au/event/bronze-training-36/
LOCATION:Manly Beach\, Sydney\, Australia
ORGANIZER;CN="Kyra%20Jenkins":MAILTO:chief.instructor@northsteyneslsc.com.au
END:VEVENT
BEGIN:VEVENT
DTSTART;TZID=UTC+0:20190217T093000
DTEND;TZID=UTC+0:20190217T113000
DTSTAMP:20190227T113616
CREATED:20190113T073554Z
LAST-MODIFIED:20190203T101901Z
UID:3319-1550395800-1550403000@northsteyneslsc.com.au
SUMMARY:Nippers with friends from Wet n' Wild
DESCRIPTION:We welcome our Wet n’ Wild Nipper friends back to our beach! \n
URL:https://northsteyneslsc.com.au/event/nippers-37/
LOCATION:Manly Beach\, Sydney\, Australia
ORGANIZER;CN="Brian%20Mariotti":MAILTO:nippers@northsteyneslsc.com.au
END:VEVENT
BEGIN:VEVENT
DTSTART;TZID=UTC+0:20190217T110000
DTEND;TZID=UTC+0:20190217T123000
DTSTAMP:20190227T113616
CREATED:20190203T102803Z
LAST-MODIFIED:20190203T102803Z
UID:3381-1550401200-1550406600@northsteyneslsc.com.au
SUMMARY:Ripper Nippers
DESCRIPTION:
URL:https://northsteyneslsc.com.au/event/ripper-nippers-17/
LOCATION:Manly Beach\, Sydney\, Australia
ORGANIZER;CN="David%20Cowell":MAILTO:marketing@northsteyneslsc.com.au
END:VEVENT
BEGIN:VEVENT
DTSTART;TZID=UTC+0:20190218T193000
DTEND;TZID=UTC+0:20190218T220000
DTSTAMP:20190227T113616
CREATED:20190113T120634Z
LAST-MODIFIED:20190113T120634Z
UID:3351-1550518200-1550527200@northsteyneslsc.com.au
SUMMARY:NSSLSC Board Meeting
DESCRIPTION:Club Room \n
URL:https://northsteyneslsc.com.au/event/nsslsc-board-meeting-6/
ORGANIZER;CN="Chris%20Gibbs%20Stewart":MAILTO:secretary@northsteyneslsc.com.au
END:VEVENT
BEGIN:VEVENT
DTSTART;TZID=UTC+0:20190220T190000
DTEND;TZID=UTC+0:20190220T210000
DTSTAMP:20190227T113616
CREATED:20190113T022137Z
LAST-MODIFIED:20190113T022137Z
UID:3281-1550689200-1550696400@northsteyneslsc.com.au
SUMMARY:Bronze Training
DESCRIPTION:Club Hall \n
URL:https://northsteyneslsc.com.au/event/bronze-training-37/
LOCATION:Manly Beach\, Sydney\, Australia
ORGANIZER;CN="Kyra%20Jenkins":MAILTO:chief.instructor@northsteyneslsc.com.au
END:VEVENT
BEGIN:VEVENT
DTSTART;TZID=UTC+0:20190224T093000
DTEND;TZID=UTC+0:20190224T113000
DTSTAMP:20190227T113616
CREATED:20190113T032829Z
LAST-MODIFIED:20190113T032829Z
UID:3317-1551000600-1551007800@northsteyneslsc.com.au
SUMMARY:Nippers
DESCRIPTION:North Steyne Beach \n
URL:https://northsteyneslsc.com.au/event/nippers-36/
END:VEVENT
BEGIN:VEVENT
DTSTART;TZID=UTC+0:20190224T110000
DTEND;TZID=UTC+0:20190224T123000
DTSTAMP:20190227T113616
CREATED:20190203T102852Z
LAST-MODIFIED:20190203T102852Z
UID:3383-1551006000-1551011400@northsteyneslsc.com.au
SUMMARY:Ripper Nippers
DESCRIPTION:
URL:https://northsteyneslsc.com.au/event/ripper-nippers-18/
END:VEVENT
BEGIN:VEVENT
DTSTART;TZID=UTC+0:20190227T190000
DTEND;TZID=UTC+0:20190227T210000
DTSTAMP:20190227T113616
CREATED:20190113T022240Z
LAST-MODIFIED:20190113T022240Z
UID:3283-1551294000-1551301200@northsteyneslsc.com.au
SUMMARY:Bronze Training
DESCRIPTION:Club Hall \n
URL:https://northsteyneslsc.com.au/event/bronze-training-38/
LOCATION:Manly Beach\, Sydney\, Australia
ORGANIZER;CN="Kyra%20Jenkins":MAILTO:chief.instructor@northsteyneslsc.com.au
END:VEVENT
BEGIN:VEVENT
DTSTART;TZID=UTC+0:20190301T180000
DTEND;TZID=UTC+0:20190301T210000
DTSTAMP:20190227T113616
CREATED:20190224T094403Z
LAST-MODIFIED:20190224T094403Z
UID:3408-1551463200-1551474000@northsteyneslsc.com.au
SUMMARY:Friday SIPs
DESCRIPTION:
URL:https://northsteyneslsc.com.au/event/friday-sips/
END:VEVENT
END:VCALENDAR